BEGIN:VCALENDAR
VERSION:2.0
PRODID:-//AudioTheme 2.3.8
BEGIN:VEVENT
UID:urn:uuid:477c58b8-e283-409d-9a34-1431a8befa6b
URL:https://mitchmcvicker.com/concerts/gig-1870/
DTSTART;VALUE=DATE:20100501
SUMMARY:The Message Room
LOCATION:The Message Room\, Rochester\, NH
END:VEVENT
END:VCALENDAR
