BEGIN:VCALENDAR
VERSION:2.0
PRODID:-//AudioTheme 2.3.8
BEGIN:VEVENT
UID:urn:uuid:89e7dac7-3e9f-45f4-ab1e-97b1cc3e3a66
URL:https://mitchmcvicker.com/concerts/gig-1868/
DTSTART;VALUE=DATE:20100430
SUMMARY:Oxford Advent Christian Church
LOCATION:Oxford Advent Christian Church\, Oxford\, ME
END:VEVENT
END:VCALENDAR
