BEGIN:VCALENDAR
VERSION:2.0
PRODID:-//AudioTheme 2.3.8
BEGIN:VEVENT
UID:urn:uuid:a8c13e7b-0717-4bf1-ae81-870988f3b08a
URL:https://mitchmcvicker.com/concerts/gig-1866/
DTSTART;VALUE=DATE:20100429
SUMMARY:Fayette Baptist Church
LOCATION:Fayette Baptist Church\, Fayette\, ME
END:VEVENT
END:VCALENDAR
