BEGIN:VCALENDAR
VERSION:2.0
PRODID:-//AudioTheme 2.3.8
BEGIN:VEVENT
UID:urn:uuid:81e2ca92-9405-4d65-a8ca-7493910ae747
URL:https://mitchmcvicker.com/concerts/gig-1865/
DTSTART;VALUE=DATE:20100425
SUMMARY:Chippewa United Methodist Church
LOCATION:Chippewa United Methodist Church\, Beaver Falls\, PA
END:VEVENT
END:VCALENDAR
