BEGIN:VCALENDAR
VERSION:2.0
PRODID:-//AudioTheme 2.3.8
BEGIN:VEVENT
UID:urn:uuid:6c49cd2a-9e8f-4fe0-bcf8-2dd53760328b
URL:https://mitchmcvicker.com/concerts/gig-1863/
DTSTART;VALUE=DATE:20100424
SUMMARY:Old Wellmen Theater
LOCATION:Old Wellmen Theater\, Youngstown\, OH
END:VEVENT
END:VCALENDAR
