BEGIN:VCALENDAR
VERSION:2.0
PRODID:-//AudioTheme 2.3.8
BEGIN:VEVENT
UID:urn:uuid:41f8e221-cbd6-4ea1-9f12-b5ff15b96d89
URL:https://mitchmcvicker.com/concerts/gig-1861/
DTSTART;VALUE=DATE:20100423
SUMMARY:Vineyard Music Cafe
LOCATION:Vineyard Music Cafe\, Hopewell Junction\, NY
END:VEVENT
END:VCALENDAR
