BEGIN:VCALENDAR
VERSION:2.0
PRODID:-//AudioTheme 2.3.8
BEGIN:VEVENT
UID:urn:uuid:555938a7-211d-44ab-a27b-43d3bb9fa223
URL:https://mitchmcvicker.com/concerts/gig-1860/
DTSTART;VALUE=DATE:20100422
SUMMARY:Souderton Mennonite Church
LOCATION:Souderton Mennonite Church\, Souderton\, PA
END:VEVENT
END:VCALENDAR
