BEGIN:VCALENDAR
VERSION:2.0
PRODID:-//AudioTheme 2.3.8
BEGIN:VEVENT
UID:urn:uuid:2a9f65db-598f-45c6-9e0d-84b10d479f16
URL:https://mitchmcvicker.com/concerts/gig-1857/
DTSTART;VALUE=DATE:20100417
SUMMARY:Community Coffeehouse
LOCATION:Community Coffeehouse\, 7 Madison Ave\, Danbury\, CT\, 06810
END:VEVENT
END:VCALENDAR
