BEGIN:VCALENDAR
VERSION:2.0
PRODID:-//AudioTheme 2.3.8
BEGIN:VEVENT
UID:urn:uuid:dc632439-ea50-4165-92ae-cd830fae04ed
URL:https://mitchmcvicker.com/concerts/gig-1855/
DTSTART;VALUE=DATE:20100416
SUMMARY:Lewes Church of Christ at the Crossing
LOCATION:Lewes Church of Christ at the Crossing\, Milton\, DE
END:VEVENT
END:VCALENDAR
