BEGIN:VCALENDAR
VERSION:2.0
PRODID:-//AudioTheme 2.3.8
BEGIN:VEVENT
UID:urn:uuid:30d449c5-a92b-4c5e-a749-2b38adf0aeb6
URL:https://mitchmcvicker.com/concerts/gig-1853/
DTSTART;VALUE=DATE:20100415
SUMMARY:Seekers Coffee House
LOCATION:Seekers Coffee House\, Middleburg Heights\, OH
END:VEVENT
END:VCALENDAR
