BEGIN:VCALENDAR
VERSION:2.0
PRODID:-//AudioTheme 2.3.8
BEGIN:VEVENT
UID:urn:uuid:78c98b26-53ab-4acf-b2ed-73d695668b5c
URL:https://mitchmcvicker.com/concerts/gig-1851/
DTSTART;VALUE=DATE:20100415
SUMMARY:Christian Community School
LOCATION:Christian Community School\, North Eaton\, OH
END:VEVENT
END:VCALENDAR
