BEGIN:VCALENDAR
VERSION:2.0
PRODID:-//AudioTheme 2.3.8
BEGIN:VEVENT
UID:urn:uuid:4a8a9183-2297-4e0f-b09e-49f7f84f25e8
URL:https://mitchmcvicker.com/concerts/gig-1849/
DTSTART;VALUE=DATE:20100414
SUMMARY:S.U. N.Y. Fredonia, Williams Center
LOCATION:S.U. N.Y. Fredonia\, Williams Center\, Fredonia\, NY
END:VEVENT
END:VCALENDAR
