BEGIN:VCALENDAR
VERSION:2.0
PRODID:-//AudioTheme 2.3.8
BEGIN:VEVENT
UID:urn:uuid:f2ec2eb3-e30a-4d35-bdea-9f30efa271e8
URL:https://mitchmcvicker.com/concerts/gig-1847/
DTSTART;VALUE=DATE:20100411
SUMMARY:Westchester United Methodist Church
LOCATION:Westchester United Methodist Church\, Portland\, IN
END:VEVENT
END:VCALENDAR
