BEGIN:VCALENDAR
VERSION:2.0
PRODID:-//AudioTheme 2.3.8
BEGIN:VEVENT
UID:urn:uuid:51312655-755c-44cd-98ca-957b82d49609
URL:https://mitchmcvicker.com/concerts/gig-1845/
DTSTART;VALUE=DATE:20100410
SUMMARY:Christ Community in Price Hill
LOCATION:Christ Community in Price Hill\, Cincinnati\, OH
END:VEVENT
END:VCALENDAR
