BEGIN:VCALENDAR
VERSION:2.0
PRODID:-//AudioTheme 2.3.8
BEGIN:VEVENT
UID:urn:uuid:18af4c0c-9d72-4450-a625-2ee7fd17973e
URL:https://mitchmcvicker.com/concerts/gig-1843/
DTSTART;VALUE=DATE:20100409
SUMMARY:Riverwood Community Church
LOCATION:Riverwood Community Church\, Burlington\, WI
END:VEVENT
END:VCALENDAR
