BEGIN:VCALENDAR
VERSION:2.0
PRODID:-//AudioTheme 2.3.8
BEGIN:VEVENT
UID:urn:uuid:7104e96b-1edb-4a94-b7c7-6b459d2b9f1a
URL:https://mitchmcvicker.com/concerts/gig-1840/
DTSTART;VALUE=DATE:20100328
SUMMARY:Our Savior Lutheran Church
LOCATION:Our Savior Lutheran Church\, Cloquet\, MN
END:VEVENT
END:VCALENDAR
