BEGIN:VCALENDAR
VERSION:2.0
PRODID:-//AudioTheme 2.3.8
BEGIN:VEVENT
UID:urn:uuid:b358195c-95d7-4c1b-954a-677ce3c2a851
URL:https://mitchmcvicker.com/concerts/gig-1838/
DTSTART;VALUE=DATE:20100327
SUMMARY:Dakota Wesleyan University, Sherman Center
LOCATION:Dakota Wesleyan University\, Sherman Center\, Mitchell\, SD
END:VEVENT
END:VCALENDAR
