BEGIN:VCALENDAR
VERSION:2.0
PRODID:-//AudioTheme 2.3.8
BEGIN:VEVENT
UID:urn:uuid:c4a82335-5057-44aa-ad60-92fe9141058c
URL:https://mitchmcvicker.com/concerts/gig-1837/
DTSTART;VALUE=DATE:20100326
SUMMARY:Hillcrest Baptist Church
LOCATION:Hillcrest Baptist Church\, Sioux Falls\, SD
END:VEVENT
END:VCALENDAR
