BEGIN:VCALENDAR
VERSION:2.0
PRODID:-//AudioTheme 2.3.8
BEGIN:VEVENT
UID:urn:uuid:b97b6e63-d931-4f0f-a4e2-6c70938ed642
URL:https://mitchmcvicker.com/concerts/gig-1836/
DTSTART;VALUE=DATE:20100325
SUMMARY:Great Plains Theatre
LOCATION:Great Plains Theatre\, Abilene\, KS
END:VEVENT
END:VCALENDAR
