BEGIN:VCALENDAR
VERSION:2.0
PRODID:-//AudioTheme 2.3.8
BEGIN:VEVENT
UID:urn:uuid:006c0d87-6b59-4f04-bf91-f5c6f8ad5104
URL:https://mitchmcvicker.com/concerts/gig-1834/
DTSTART;VALUE=DATE:20100314
SUMMARY:Community of Life Church
LOCATION:Community of Life Church\, Oregon\, WI
END:VEVENT
END:VCALENDAR
