BEGIN:VCALENDAR
VERSION:2.0
PRODID:-//AudioTheme 2.3.8
BEGIN:VEVENT
UID:urn:uuid:6aee7fe8-b310-48ad-9152-dcf038761188
URL:https://mitchmcvicker.com/concerts/gig-1832/
DTSTART;VALUE=DATE:20100314
SUMMARY:Followers of Christ Baptist Church
LOCATION:Followers of Christ Baptist Church\, Carlisle\, IN
END:VEVENT
END:VCALENDAR
