BEGIN:VCALENDAR
VERSION:2.0
PRODID:-//AudioTheme 2.3.8
BEGIN:VEVENT
UID:urn:uuid:d7521aff-a558-4e21-97a7-3b4af4452e2f
URL:https://mitchmcvicker.com/concerts/gig-1830/
DTSTART;VALUE=DATE:20100313
SUMMARY:Lutheran Church of the Master
LOCATION:Lutheran Church of the Master\, Carol Stream\, IL
END:VEVENT
END:VCALENDAR
