BEGIN:VCALENDAR
VERSION:2.0
PRODID:-//AudioTheme 2.3.8
BEGIN:VEVENT
UID:urn:uuid:d2eb0f72-a01a-47be-ac20-a243a68496e9
URL:https://mitchmcvicker.com/concerts/gig-1829/
DTSTART;VALUE=DATE:20100312
SUMMARY:Blind Munchies Coffeehouse
LOCATION:Blind Munchies Coffeehouse\, Menomonie\, WI
END:VEVENT
END:VCALENDAR
