BEGIN:VCALENDAR
VERSION:2.0
PRODID:-//AudioTheme 2.3.8
BEGIN:VEVENT
UID:urn:uuid:76509f27-f2c0-484a-894d-e16482f78ea1
URL:https://mitchmcvicker.com/concerts/gig-1828/
DTSTART;VALUE=DATE:20100307
SUMMARY:Cornerstone Christian Church
LOCATION:Cornerstone Christian Church\, 3600 S. Banker Street\, Effingham\, IL
END:VEVENT
END:VCALENDAR
