BEGIN:VCALENDAR
VERSION:2.0
PRODID:-//AudioTheme 2.3.8
BEGIN:VEVENT
UID:urn:uuid:f2bcbc7f-4079-47a3-8a61-b76c10b073e1
URL:https://mitchmcvicker.com/concerts/gig-1827/
DTSTART;VALUE=DATE:20100307
SUMMARY:West Ridge Community Church
LOCATION:West Ridge Community Church\, 3300 Encounter Lane\, Elgin\, IL\, 60124
END:VEVENT
END:VCALENDAR
