BEGIN:VCALENDAR
VERSION:2.0
PRODID:-//AudioTheme 2.3.8
BEGIN:VEVENT
UID:urn:uuid:e28505b0-263f-4a72-9b5b-d428fd903fcf
URL:https://mitchmcvicker.com/concerts/gig-1825/
DTSTART;VALUE=DATE:20100305
SUMMARY:Batesville Christian Church
LOCATION:Batesville Christian Church\, 1294 Columbus Ave.\, Batesville\, IN
END:VEVENT
END:VCALENDAR
