BEGIN:VCALENDAR
VERSION:2.0
PRODID:-//AudioTheme 2.3.8
BEGIN:VEVENT
UID:urn:uuid:8de92708-9dfc-49a8-a1a3-9c49b5bb1770
URL:https://mitchmcvicker.com/concerts/gig-1823/
DTSTART;VALUE=DATE:20100228
SUMMARY:Mosinee United Methodist Church
LOCATION:Mosinee United Methodist Church\, Mosinee\, WI
END:VEVENT
END:VCALENDAR
