BEGIN:VCALENDAR
VERSION:2.0
PRODID:-//AudioTheme 2.3.8
BEGIN:VEVENT
UID:urn:uuid:5f50d32c-1fd4-4f70-a9d3-614ced0fc693
URL:https://mitchmcvicker.com/concerts/gig-1820/
DTSTART;VALUE=DATE:20100226
SUMMARY:Lucas Grove Baptist Church
LOCATION:Lucas Grove Baptist Church\, Upton\, KY
END:VEVENT
END:VCALENDAR
