BEGIN:VCALENDAR
VERSION:2.0
PRODID:-//AudioTheme 2.3.8
BEGIN:VEVENT
UID:urn:uuid:0b93931f-23a8-4b66-a183-89b9a8fbb17b
URL:https://mitchmcvicker.com/concerts/gig-1819/
DTSTART;VALUE=DATE:20100225
SUMMARY:Oakwood Forest Christian Church
LOCATION:Oakwood Forest Christian Church\, Kingsport\, TN
END:VEVENT
END:VCALENDAR
