BEGIN:VCALENDAR
VERSION:2.0
PRODID:-//AudioTheme 2.3.8
BEGIN:VEVENT
UID:urn:uuid:74634cdd-a8f4-4b3e-92c4-7262299fe157
URL:https://mitchmcvicker.com/concerts/gig-1818/
DTSTART;VALUE=DATE:20100224
SUMMARY:Nettleton Baptist Church
LOCATION:Nettleton Baptist Church\, Jonesboro\, AR
END:VEVENT
END:VCALENDAR
