BEGIN:VCALENDAR
VERSION:2.0
PRODID:-//AudioTheme 2.3.8
BEGIN:VEVENT
UID:urn:uuid:6e0efe7f-925c-42e9-a440-cc50d8c1d28c
URL:https://mitchmcvicker.com/concerts/gig-1816/
DTSTART;VALUE=DATE:20170918
SUMMARY:Vineyard-Gilbert
LOCATION:Vineyard-Gilbert\, Gilbert\, AZ
END:VEVENT
END:VCALENDAR
