BEGIN:VCALENDAR
VERSION:2.0
PRODID:-//AudioTheme 2.3.8
BEGIN:VEVENT
UID:urn:uuid:8ee5f792-d88b-4278-950f-75e1a9cb4979
URL:https://mitchmcvicker.com/concerts/gig-1814/
DTSTART;VALUE=DATE:20170917
SUMMARY:Calvary Baptist Church
LOCATION:Calvary Baptist Church\, Show Low\, AZ
END:VEVENT
END:VCALENDAR
