BEGIN:VCALENDAR
VERSION:2.0
PRODID:-//AudioTheme 2.3.8
BEGIN:VEVENT
UID:urn:uuid:e528b034-0520-4212-9350-6c9e26b98d3b
URL:https://mitchmcvicker.com/concerts/gig-1810/
DTSTART;VALUE=DATE:20170915
SUMMARY:The Bridge Church
LOCATION:The Bridge Church\, Gilbert\, AZ
END:VEVENT
END:VCALENDAR
