BEGIN:VCALENDAR
VERSION:2.0
PRODID:-//AudioTheme 2.3.8
BEGIN:VEVENT
UID:urn:uuid:a3e19599-62d4-4d14-8d90-006b9cd5b25d
URL:https://mitchmcvicker.com/concerts/gig-1806/
DTSTART;VALUE=DATE:20170913
SUMMARY:Discovery Community Church
LOCATION:Discovery Community Church\, Gilbert\, AZ
END:VEVENT
END:VCALENDAR
