BEGIN:VCALENDAR
VERSION:2.0
PRODID:-//AudioTheme 2.3.8
BEGIN:VEVENT
UID:urn:uuid:e0a19272-98dd-43e6-89c1-7fd48eda0937
URL:https://mitchmcvicker.com/concerts/gig-1803/
DTSTART;VALUE=DATE:20170911
SUMMARY:Bethlehem Christian Reformed Church
LOCATION:Bethlehem Christian Reformed Church\, Gallup\, NM
END:VEVENT
END:VCALENDAR
