BEGIN:VCALENDAR
VERSION:2.0
PRODID:-//AudioTheme 2.3.8
BEGIN:VEVENT
UID:urn:uuid:5e8d0290-9ae4-49ff-bc60-03ecd11aff2c
URL:https://mitchmcvicker.com/concerts/gig-1797/
DTSTART;VALUE=DATE:20170827
SUMMARY:Concert in Council Bluffs
LOCATION:Concert in Council Bluffs\, Council Bluffs\, IA
END:VEVENT
END:VCALENDAR
