BEGIN:VCALENDAR
VERSION:2.0
PRODID:-//AudioTheme 2.3.8
BEGIN:VEVENT
UID:urn:uuid:123471c2-0e53-45a4-8e00-524903b8b716
URL:https://mitchmcvicker.com/concerts/gig-1792/
DTSTART;VALUE=DATE:20170823
SUMMARY:South Creek Church of God
LOCATION:South Creek Church of God\, Kokomo\, IN
END:VEVENT
END:VCALENDAR
