BEGIN:VCALENDAR
VERSION:2.0
PRODID:-//AudioTheme 2.3.8
BEGIN:VEVENT
UID:urn:uuid:a917fb61-4927-4bec-8357-f31ff5bb82e6
URL:https://mitchmcvicker.com/concerts/gig-1791/
DTSTART;VALUE=DATE:20170822
SUMMARY:Mosaic Church @ Park Avenue Baptist
LOCATION:Mosaic Church @ Park Avenue Baptist\, 296 Park Ave. W.\, Mansfield\, OH
END:VEVENT
END:VCALENDAR
