BEGIN:VCALENDAR
VERSION:2.0
PRODID:-//AudioTheme 2.3.8
BEGIN:VEVENT
UID:urn:uuid:07e6ed9f-d75f-483f-b24b-6ea9fa367b6b
URL:https://mitchmcvicker.com/concerts/gig-1789/
DTSTART;VALUE=DATE:20170813
SUMMARY:Safe Harbor United Church of Christ
LOCATION:Safe Harbor United Church of Christ\, Milton\, DE
END:VEVENT
END:VCALENDAR
