BEGIN:VCALENDAR
VERSION:2.0
PRODID:-//AudioTheme 2.3.8
BEGIN:VEVENT
UID:urn:uuid:ffc939ae-0d85-4bd9-a04e-c472950c55fb
URL:https://mitchmcvicker.com/concerts/gig-1788/
DTSTART;VALUE=DATE:20170812
SUMMARY:Samantha's Lil Bit of Heaven
LOCATION:Samantha's Lil Bit of Heaven\, 287 Larkfield Rd\, East Northport\, NY\, 11731
END:VEVENT
END:VCALENDAR
