BEGIN:VCALENDAR
VERSION:2.0
PRODID:-//AudioTheme 2.3.8
BEGIN:VEVENT
UID:urn:uuid:823a08cd-b607-43fb-bdab-a4c97c894587
URL:https://mitchmcvicker.com/concerts/gig-1787/
DTSTART;VALUE=DATE:20170811
SUMMARY:The Mill Church Cafe
LOCATION:The Mill Church Cafe\, Millbury\, MA
END:VEVENT
END:VCALENDAR
