BEGIN:VCALENDAR
VERSION:2.0
PRODID:-//AudioTheme 2.3.8
BEGIN:VEVENT
UID:urn:uuid:e56f1938-24b6-4050-b08e-3fc36833e05a
URL:https://mitchmcvicker.com/concerts/gig-1785/
DTSTART;VALUE=DATE:20170810
SUMMARY:Glenburn Evangelical Church
LOCATION:Glenburn Evangelical Church\, Glenburn Center\, ME
END:VEVENT
END:VCALENDAR
