BEGIN:VCALENDAR
VERSION:2.0
PRODID:-//AudioTheme 2.3.8
BEGIN:VEVENT
UID:urn:uuid:2e3e5a2f-4a20-44bf-9cf3-f220746d2b18
URL:https://mitchmcvicker.com/concerts/gig-1783/
DTSTART;VALUE=DATE:20170808
SUMMARY:Spirit and Truth Fellowship
LOCATION:Spirit and Truth Fellowship\, Philadelphia\, PA
END:VEVENT
END:VCALENDAR
