BEGIN:VCALENDAR
VERSION:2.0
PRODID:-//AudioTheme 2.3.8
BEGIN:VEVENT
UID:urn:uuid:009815ad-2cc3-4b1e-939a-b695b95ef3ab
URL:https://mitchmcvicker.com/concerts/gig-1780/
DTSTART;VALUE=DATE:20111205
SUMMARY:Rohs Street Cafe/University Christian Church
LOCATION:Rohs Street Cafe/University Christian Church\, Cincinnati\, OH
END:VEVENT
END:VCALENDAR
