BEGIN:VCALENDAR
VERSION:2.0
PRODID:-//AudioTheme 2.3.8
BEGIN:VEVENT
UID:urn:uuid:bace6717-d55d-4ec2-88e0-fabff87a36c6
URL:https://mitchmcvicker.com/concerts/gig-1778/
DTSTART;VALUE=DATE:20111211
SUMMARY:First Christian Church
LOCATION:First Christian Church\, Brownstown\, IL
END:VEVENT
END:VCALENDAR
