BEGIN:VCALENDAR
VERSION:2.0
PRODID:-//AudioTheme 2.3.8
BEGIN:VEVENT
UID:urn:uuid:4ca9b85e-a9ca-4bf5-86e8-11446424e266
URL:https://mitchmcvicker.com/concerts/gig-1773/
DTSTART;VALUE=DATE:20111204
SUMMARY:Covenant Christian Church
LOCATION:Covenant Christian Church\, Crawfordsville\, IN
END:VEVENT
END:VCALENDAR
