BEGIN:VCALENDAR
VERSION:2.0
PRODID:-//AudioTheme 2.3.8
BEGIN:VEVENT
UID:urn:uuid:bb18180e-9279-447f-9873-ee48a038be6e
URL:https://mitchmcvicker.com/concerts/gig-1771/
DTSTART;VALUE=DATE:20111202
SUMMARY:First Assembly of God
LOCATION:First Assembly of God\, Normal\, IL
END:VEVENT
END:VCALENDAR
