BEGIN:VCALENDAR
VERSION:2.0
PRODID:-//AudioTheme 2.3.8
BEGIN:VEVENT
UID:urn:uuid:019d439c-7362-44d4-b670-f442de85922a
URL:https://mitchmcvicker.com/concerts/gig-1770/
DTSTART;VALUE=DATE:20111201
SUMMARY:Cornerstone Church
LOCATION:Cornerstone Church\, Trafalgar\, IN
END:VEVENT
END:VCALENDAR
