BEGIN:VCALENDAR
VERSION:2.0
PRODID:-//AudioTheme 2.3.8
BEGIN:VEVENT
UID:urn:uuid:b55c9ad8-f0a0-4103-93b7-1ba8e2358846
URL:https://mitchmcvicker.com/concerts/gig-1768/
DTSTART;VALUE=DATE:20111130
SUMMARY:Weinheimer Community Center
LOCATION:Weinheimer Community Center\, Highland\, IL
END:VEVENT
END:VCALENDAR
