BEGIN:VCALENDAR
VERSION:2.0
PRODID:-//AudioTheme 2.3.8
BEGIN:VEVENT
UID:urn:uuid:ee40e89a-af43-4b6e-80e4-7f8de156ef4e
URL:https://mitchmcvicker.com/concerts/gig-1766/
DTSTART;VALUE=DATE:20111129
SUMMARY:Great Plains Theatre
LOCATION:Great Plains Theatre\, Abilene\, KS
END:VEVENT
END:VCALENDAR
